BEGIN:VCALENDAR
VERSION:2.0
PRODID:-//Live Music Every Day - ECPv6.15.11//NONSGML v1.0//EN
CALSCALE:GREGORIAN
METHOD:PUBLISH
X-WR-CALNAME:Live Music Every Day
X-ORIGINAL-URL:https://livemusiceveryday.com
X-WR-CALDESC:Events for Live Music Every Day
REFRESH-INTERVAL;VALUE=DURATION:PT1H
X-Robots-Tag:noindex
X-PUBLISHED-TTL:PT1H
BEGIN:VTIMEZONE
TZID:America/New_York
BEGIN:DAYLIGHT
TZOFFSETFROM:-0500
TZOFFSETTO:-0400
TZNAME:EDT
DTSTART:20250309T070000
END:DAYLIGHT
BEGIN:STANDARD
TZOFFSETFROM:-0400
TZOFFSETTO:-0500
TZNAME:EST
DTSTART:20251102T060000
END:STANDARD
BEGIN:DAYLIGHT
TZOFFSETFROM:-0500
TZOFFSETTO:-0400
TZNAME:EDT
DTSTART:20260308T070000
END:DAYLIGHT
BEGIN:STANDARD
TZOFFSETFROM:-0400
TZOFFSETTO:-0500
TZNAME:EST
DTSTART:20261101T060000
END:STANDARD
BEGIN:DAYLIGHT
TZOFFSETFROM:-0500
TZOFFSETTO:-0400
TZNAME:EDT
DTSTART:20270314T070000
END:DAYLIGHT
BEGIN:STANDARD
TZOFFSETFROM:-0400
TZOFFSETTO:-0500
TZNAME:EST
DTSTART:20271107T060000
END:STANDARD
END:VTIMEZONE
BEGIN:VEVENT
DTSTART;TZID=America/New_York:20260426T140000
DTEND;TZID=America/New_York:20260426T180000
DTSTAMP:20260423T093223
CREATED:20260418T170440Z
LAST-MODIFIED:20260418T170440Z
UID:72409-1777212000-1777226400@livemusiceveryday.com
SUMMARY:Jeff Harris @Irish Kevin's
DESCRIPTION:Jeff Harris is an American singer\, songwriter\, and entertainer known as The Key West Cowboy. \nHe was born and raised in Pennsylvania and now brings his country charm to the island music scene. \n…READ MORE \nLiveMusicEveryDay.com celebrates the live music in the Florida Keys and Key West \nOne gig at a time on LiveMusicEveryDay.com \n“Where Musicians Share their live music schedule” \nReady to Rock the World? \nAsk about our Artist/Band Fan Page Getting Tips Just Got EASIER!\nText Me: 305-783-9172 or Email Me: LMEDKeyWest@SocialMediaG.com
URL:https://livemusiceveryday.com/event/jeff-harris-irish-kevins-6/2026-04-26/
LOCATION:Irish Kevin’s\, 211 Duval Street\, Key West\, FL\, 33040\, United States
ATTACH;FMTTYPE=image/jpeg:https://livemusiceveryday.com/wp-content/uploads/2025/10/Jeff-Harris-@Irish-Kevins-livemusiceveryday.com_.jpg
END:VEVENT
END:VCALENDAR