BEGIN:VCALENDAR
VERSION:2.0
PRODID:-//Live Music Every Day - ECPv6.15.11//NONSGML v1.0//EN
CALSCALE:GREGORIAN
METHOD:PUBLISH
X-WR-CALNAME:Live Music Every Day
X-ORIGINAL-URL:https://livemusiceveryday.com
X-WR-CALDESC:Events for Live Music Every Day
REFRESH-INTERVAL;VALUE=DURATION:PT1H
X-Robots-Tag:noindex
X-PUBLISHED-TTL:PT1H
BEGIN:VTIMEZONE
TZID:America/New_York
BEGIN:DAYLIGHT
TZOFFSETFROM:-0500
TZOFFSETTO:-0400
TZNAME:EDT
DTSTART:20240310T070000
END:DAYLIGHT
BEGIN:STANDARD
TZOFFSETFROM:-0400
TZOFFSETTO:-0500
TZNAME:EST
DTSTART:20241103T060000
END:STANDARD
BEGIN:DAYLIGHT
TZOFFSETFROM:-0500
TZOFFSETTO:-0400
TZNAME:EDT
DTSTART:20250309T070000
END:DAYLIGHT
BEGIN:STANDARD
TZOFFSETFROM:-0400
TZOFFSETTO:-0500
TZNAME:EST
DTSTART:20251102T060000
END:STANDARD
BEGIN:DAYLIGHT
TZOFFSETFROM:-0500
TZOFFSETTO:-0400
TZNAME:EDT
DTSTART:20260308T070000
END:DAYLIGHT
BEGIN:STANDARD
TZOFFSETFROM:-0400
TZOFFSETTO:-0500
TZNAME:EST
DTSTART:20261101T060000
END:STANDARD
END:VTIMEZONE
BEGIN:VEVENT
DTSTART;TZID=America/New_York:20251109T183000
DTEND;TZID=America/New_York:20251109T230000
DTSTAMP:20260425T112805
CREATED:20251025T043921Z
LAST-MODIFIED:20251025T043921Z
UID:69363-1762713000-1762729200@livemusiceveryday.com
SUMMARY:Jess and Jill @Schooner Wharf
DESCRIPTION:We’re Jesse and Jillian\, also known as “Jess and Jill.” Influenced by artists from Joni Mitchell and Bob Dylan to Norah Jones\, Wilco\, and Miles Davis\, we create music inspired by a wide range of sounds. \n…READ MORE \nLiveMusicEveryDay.com celebrates the live music in the Florida Keys and Key West \nOne gig at a time on LiveMusicEveryDay.com \n“Where Musicians Share their live music schedule” \nReady to Rock the World? \nAsk about our Artist/Band Fan Page Getting Tips Just Got EASIER!\nText Me: 305-783-9172 or Email Me: LMEDKeyWest@SocialMediaG.com
URL:https://livemusiceveryday.com/event/jess-and-jill-schooner-wharf-3/2025-11-09/
LOCATION:Schooner Wharf\, 202 William St\, Key West\, FL\, 33040\, United States
ATTACH;FMTTYPE=image/jpeg:https://livemusiceveryday.com/wp-content/uploads/2025/10/Jess-and-Jill-@Blue-Heaven-livemusiceveryday.com_.jpg
GEO:24.5610456;-81.8018496
X-APPLE-STRUCTURED-LOCATION;VALUE=URI;X-ADDRESS=Schooner Wharf 202 William St Key West FL 33040 United States;X-APPLE-RADIUS=500;X-TITLE=202 William St:geo:-81.8018496,24.5610456
END:VEVENT
END:VCALENDAR