BEGIN:VCALENDAR
VERSION:2.0
PRODID:-//Live Music Every Day - ECPv6.15.11//NONSGML v1.0//EN
CALSCALE:GREGORIAN
METHOD:PUBLISH
X-WR-CALNAME:Live Music Every Day
X-ORIGINAL-URL:https://livemusiceveryday.com
X-WR-CALDESC:Events for Live Music Every Day
REFRESH-INTERVAL;VALUE=DURATION:PT1H
X-Robots-Tag:noindex
X-PUBLISHED-TTL:PT1H
BEGIN:VTIMEZONE
TZID:America/New_York
BEGIN:DAYLIGHT
TZOFFSETFROM:-0500
TZOFFSETTO:-0400
TZNAME:EDT
DTSTART:20240310T070000
END:DAYLIGHT
BEGIN:STANDARD
TZOFFSETFROM:-0400
TZOFFSETTO:-0500
TZNAME:EST
DTSTART:20241103T060000
END:STANDARD
BEGIN:DAYLIGHT
TZOFFSETFROM:-0500
TZOFFSETTO:-0400
TZNAME:EDT
DTSTART:20250309T070000
END:DAYLIGHT
BEGIN:STANDARD
TZOFFSETFROM:-0400
TZOFFSETTO:-0500
TZNAME:EST
DTSTART:20251102T060000
END:STANDARD
BEGIN:DAYLIGHT
TZOFFSETFROM:-0500
TZOFFSETTO:-0400
TZNAME:EDT
DTSTART:20260308T070000
END:DAYLIGHT
BEGIN:STANDARD
TZOFFSETFROM:-0400
TZOFFSETTO:-0500
TZNAME:EST
DTSTART:20261101T060000
END:STANDARD
END:VTIMEZONE
BEGIN:VEVENT
DTSTART;TZID=America/New_York:20251109T190000
DTEND;TZID=America/New_York:20251109T220000
DTSTAMP:20260425T125356
CREATED:20251025T084129Z
LAST-MODIFIED:20251103T042108Z
UID:69670-1762714800-1762725600@livemusiceveryday.com
SUMMARY:Tony Elitcher Jazz Trio @Viv Wine Bistro
DESCRIPTION:Disco Nap is a Key West-based band led by guitarist Mark King and vocalist Marcy Kaelyn\, known for their groovy mix of jazzy\, retro-futuristic covers and originals. \n…READ MORE \n\n\nLiveMusicEveryDay.com celebrates the live music in the Florida Keys and Key West \nOne gig at a time on LiveMusicEveryDay.com \n“Where Musicians Share their live music schedule” \nReady to Rock the World? \nAsk about our Artist/Band Fan Page Getting Tips Just Got EASIER!\nText Me: 305-783-9172 or Email Me: LMEDKeyWest@SocialMediaG.com
URL:https://livemusiceveryday.com/event/tony-elitcher-jazz-trio-viv-wine-bistro-2/2025-11-09/
LOCATION:ViV Wine Bistro\, 300 petronia street\, Key West\, FL\, 33040\, United States
ATTACH;FMTTYPE=image/jpeg:https://livemusiceveryday.com/wp-content/uploads/2025/10/Tony-Elitcher-Jazz-Trio-@Viv-Wine-Bistro-livemusiceveryday.com_.jpg
END:VEVENT
END:VCALENDAR