BEGIN:VCALENDAR
VERSION:2.0
PRODID:-//Live Music Every Day - ECPv6.15.11//NONSGML v1.0//EN
CALSCALE:GREGORIAN
METHOD:PUBLISH
X-ORIGINAL-URL:https://livemusiceveryday.com
X-WR-CALDESC:Events for Live Music Every Day
REFRESH-INTERVAL;VALUE=DURATION:PT1H
X-Robots-Tag:noindex
X-PUBLISHED-TTL:PT1H
BEGIN:VTIMEZONE
TZID:America/New_York
BEGIN:DAYLIGHT
TZOFFSETFROM:-0500
TZOFFSETTO:-0400
TZNAME:EDT
DTSTART:20250309T070000
END:DAYLIGHT
BEGIN:STANDARD
TZOFFSETFROM:-0400
TZOFFSETTO:-0500
TZNAME:EST
DTSTART:20251102T060000
END:STANDARD
BEGIN:DAYLIGHT
TZOFFSETFROM:-0500
TZOFFSETTO:-0400
TZNAME:EDT
DTSTART:20260308T070000
END:DAYLIGHT
BEGIN:STANDARD
TZOFFSETFROM:-0400
TZOFFSETTO:-0500
TZNAME:EST
DTSTART:20261101T060000
END:STANDARD
BEGIN:DAYLIGHT
TZOFFSETFROM:-0500
TZOFFSETTO:-0400
TZNAME:EDT
DTSTART:20270314T070000
END:DAYLIGHT
BEGIN:STANDARD
TZOFFSETFROM:-0400
TZOFFSETTO:-0500
TZNAME:EST
DTSTART:20271107T060000
END:STANDARD
END:VTIMEZONE
BEGIN:VEVENT
DTSTART;TZID=America/New_York:20260423T170000
DTEND;TZID=America/New_York:20260423T170000
DTSTAMP:20260423T080718
CREATED:20260418T153408Z
LAST-MODIFIED:20260418T153453Z
UID:72367-1776963600-1776963600@livemusiceveryday.com
SUMMARY:Marshall Morlock Band @Salty Frogs
DESCRIPTION:LiveMusicEveryDay.com celebrates the live music in the Florida Keys and Key West \nOne gig at a time on LiveMusicEveryDay.com \n“Where Musicians Share their live music schedule” \nReady to Rock the World? \nAsk about our Artist/Band Fan Page Getting Tips Just Got EASIER!\nText Me: 305-783-9172 or Email Me: LMEDKeyWest@SocialMediaG.com
URL:https://livemusiceveryday.com/event/marshall-morlock-band-salty-frogs-3/2026-04-23/
LOCATION:Salty Frog’s Bar & Grill\, 407 Front Street\, Key West\, 33040\, United States
ATTACH;FMTTYPE=image/jpeg:https://livemusiceveryday.com/wp-content/uploads/2025/09/Marshall-Morlock-Band-@The-Alamo-livemusiceveryday.com_.jpg
END:VEVENT
BEGIN:VEVENT
DTSTART;TZID=America/New_York:20260424T140000
DTEND;TZID=America/New_York:20260424T180000
DTSTAMP:20260423T080718
CREATED:20260418T170440Z
LAST-MODIFIED:20260418T170440Z
UID:72408-1777039200-1777053600@livemusiceveryday.com
SUMMARY:Jeff Harris @Irish Kevin's
DESCRIPTION:Jeff Harris is an American singer\, songwriter\, and entertainer known as The Key West Cowboy. \nHe was born and raised in Pennsylvania and now brings his country charm to the island music scene. \n…READ MORE \nLiveMusicEveryDay.com celebrates the live music in the Florida Keys and Key West \nOne gig at a time on LiveMusicEveryDay.com \n“Where Musicians Share their live music schedule” \nReady to Rock the World? \nAsk about our Artist/Band Fan Page Getting Tips Just Got EASIER!\nText Me: 305-783-9172 or Email Me: LMEDKeyWest@SocialMediaG.com
URL:https://livemusiceveryday.com/event/jeff-harris-irish-kevins-6/2026-04-24/
LOCATION:Irish Kevin’s\, 211 Duval Street\, Key West\, FL\, 33040\, United States
ATTACH;FMTTYPE=image/jpeg:https://livemusiceveryday.com/wp-content/uploads/2025/10/Jeff-Harris-@Irish-Kevins-livemusiceveryday.com_.jpg
END:VEVENT
BEGIN:VEVENT
DTSTART;TZID=America/New_York:20260424T203000
DTEND;TZID=America/New_York:20260424T233000
DTSTAMP:20260423T080718
CREATED:20260418T155835Z
LAST-MODIFIED:20260418T155835Z
UID:72377-1777062600-1777073400@livemusiceveryday.com
SUMMARY:Victoria Leigh @Hank's Hair of the Dog
DESCRIPTION:…READ MORE \nLiveMusicEveryDay.com celebrates the live music in the Florida Keys and Key West \nOne gig at a time on LiveMusicEveryDay.com \n“Where Musicians Share their live music schedule” \nReady to Rock the World? \nAsk about our Artist/Band Fan Page Getting Tips Just Got EASIER!\nText Me: 305-783-9172 or Email Me: LMEDKeyWest@SocialMediaG.com
URL:https://livemusiceveryday.com/event/victoria-leigh-hanks-hair-of-the-dog-6/2026-04-24/
LOCATION:Hank’s Hair of the Dog Saloon\, 409 Caroline St\, Key West\, FL\, 33040\, United States
ATTACH;FMTTYPE=image/jpeg:https://livemusiceveryday.com/wp-content/uploads/2025/10/Victoria-Leigh-@Hanks-Hair-of-the-Dog-livemusiceveryday.com_.jpg
END:VEVENT
BEGIN:VEVENT
DTSTART;TZID=America/New_York:20260425T113000
DTEND;TZID=America/New_York:20260425T143000
DTSTAMP:20260423T080718
CREATED:20260418T161801Z
LAST-MODIFIED:20260418T161944Z
UID:72389-1777116600-1777127400@livemusiceveryday.com
SUMMARY:Victoria Leigh @Boondocks
DESCRIPTION:…READ MORE \nLiveMusicEveryDay.com celebrates the live music in the Florida Keys and Key West \nOne gig at a time on LiveMusicEveryDay.com \n“Where Musicians Share their live music schedule” \nReady to Rock the World? \nAsk about our Artist/Band Fan Page Getting Tips Just Got EASIER!\nText Me: 305-783-9172 or Email Me: LMEDKeyWest@SocialMediaG.com
URL:https://livemusiceveryday.com/event/victoria-leigh-boondocks-4/2026-04-25/
LOCATION:Boondocks Grille & Draft House & Miniature Golf\, Mile Marker 27 1/2\, 27205 Overseas Hwy Ramrod\, Key West\, FL\, United States
ATTACH;FMTTYPE=image/jpeg:https://livemusiceveryday.com/wp-content/uploads/2025/10/Victoria-Leigh-@Boondocks-livemusiceveryday.com_.jpg
END:VEVENT
BEGIN:VEVENT
DTSTART;TZID=America/New_York:20260425T140000
DTEND;TZID=America/New_York:20260425T170000
DTSTAMP:20260423T080718
CREATED:20260418T162849Z
LAST-MODIFIED:20260418T163105Z
UID:72399-1777125600-1777136400@livemusiceveryday.com
SUMMARY:Micah @FL Keys Brewing Co. (MM81)
DESCRIPTION:Micah is a seasoned storyteller and musician known as the Barstool Sailor\, embodying the spirit of island life. For over two decades\, he’s been entertaining audiences as a true “Sunshine Billionaire” of the tropics. \n…READ MORE \nLiveMusicEveryDay.com celebrates the live music in the Florida Keys and Key West \nOne gig at a time on LiveMusicEveryDay.com \n“Where Musicians Share their live music schedule” \nReady to Rock the World? \nAsk about our Artist/Band Fan Page Getting Tips Just Got EASIER!\nText Me: 305-783-9172 or Email Me: LMEDKeyWest@SocialMediaG.com
URL:https://livemusiceveryday.com/event/micah-florida-keys-brewing-4/2026-04-25/
LOCATION:Florida Keys Brewing Company MM81.6\, 81611 Old Hwy\, Islamorada\, FL\, 33036\, United States
ATTACH;FMTTYPE=image/jpeg:https://livemusiceveryday.com/wp-content/uploads/2025/10/Micah-@Rams-Head-Southernmostt-livemusiceveryday.com_.jpg
END:VEVENT
BEGIN:VEVENT
DTSTART;TZID=America/New_York:20260426T140000
DTEND;TZID=America/New_York:20260426T180000
DTSTAMP:20260423T080718
CREATED:20260418T170440Z
LAST-MODIFIED:20260418T170440Z
UID:72409-1777212000-1777226400@livemusiceveryday.com
SUMMARY:Jeff Harris @Irish Kevin's
DESCRIPTION:Jeff Harris is an American singer\, songwriter\, and entertainer known as The Key West Cowboy. \nHe was born and raised in Pennsylvania and now brings his country charm to the island music scene. \n…READ MORE \nLiveMusicEveryDay.com celebrates the live music in the Florida Keys and Key West \nOne gig at a time on LiveMusicEveryDay.com \n“Where Musicians Share their live music schedule” \nReady to Rock the World? \nAsk about our Artist/Band Fan Page Getting Tips Just Got EASIER!\nText Me: 305-783-9172 or Email Me: LMEDKeyWest@SocialMediaG.com
URL:https://livemusiceveryday.com/event/jeff-harris-irish-kevins-6/2026-04-26/
LOCATION:Irish Kevin’s\, 211 Duval Street\, Key West\, FL\, 33040\, United States
ATTACH;FMTTYPE=image/jpeg:https://livemusiceveryday.com/wp-content/uploads/2025/10/Jeff-Harris-@Irish-Kevins-livemusiceveryday.com_.jpg
END:VEVENT
BEGIN:VEVENT
DTSTART;TZID=America/New_York:20260427T140000
DTEND;TZID=America/New_York:20260427T180000
DTSTAMP:20260423T080718
CREATED:20260418T170440Z
LAST-MODIFIED:20260418T170440Z
UID:72410-1777298400-1777312800@livemusiceveryday.com
SUMMARY:Jeff Harris @Irish Kevin's
DESCRIPTION:Jeff Harris is an American singer\, songwriter\, and entertainer known as The Key West Cowboy. \nHe was born and raised in Pennsylvania and now brings his country charm to the island music scene. \n…READ MORE \nLiveMusicEveryDay.com celebrates the live music in the Florida Keys and Key West \nOne gig at a time on LiveMusicEveryDay.com \n“Where Musicians Share their live music schedule” \nReady to Rock the World? \nAsk about our Artist/Band Fan Page Getting Tips Just Got EASIER!\nText Me: 305-783-9172 or Email Me: LMEDKeyWest@SocialMediaG.com
URL:https://livemusiceveryday.com/event/jeff-harris-irish-kevins-6/2026-04-27/
LOCATION:Irish Kevin’s\, 211 Duval Street\, Key West\, FL\, 33040\, United States
ATTACH;FMTTYPE=image/jpeg:https://livemusiceveryday.com/wp-content/uploads/2025/10/Jeff-Harris-@Irish-Kevins-livemusiceveryday.com_.jpg
END:VEVENT
BEGIN:VEVENT
DTSTART;TZID=America/New_York:20260427T180000
DTEND;TZID=America/New_York:20260427T210000
DTSTAMP:20260423T080718
CREATED:20260418T161801Z
LAST-MODIFIED:20260418T161944Z
UID:72390-1777312800-1777323600@livemusiceveryday.com
SUMMARY:Victoria Leigh @Boondocks
DESCRIPTION:…READ MORE \nLiveMusicEveryDay.com celebrates the live music in the Florida Keys and Key West \nOne gig at a time on LiveMusicEveryDay.com \n“Where Musicians Share their live music schedule” \nReady to Rock the World? \nAsk about our Artist/Band Fan Page Getting Tips Just Got EASIER!\nText Me: 305-783-9172 or Email Me: LMEDKeyWest@SocialMediaG.com
URL:https://livemusiceveryday.com/event/victoria-leigh-boondocks-4/2026-04-27/
LOCATION:Boondocks Grille & Draft House & Miniature Golf\, Mile Marker 27 1/2\, 27205 Overseas Hwy Ramrod\, Key West\, FL\, United States
ATTACH;FMTTYPE=image/jpeg:https://livemusiceveryday.com/wp-content/uploads/2025/10/Victoria-Leigh-@Boondocks-livemusiceveryday.com_.jpg
END:VEVENT
BEGIN:VEVENT
DTSTART;TZID=America/New_York:20260428T130000
DTEND;TZID=America/New_York:20260428T160000
DTSTAMP:20260423T080718
CREATED:20260418T160657Z
LAST-MODIFIED:20260418T160657Z
UID:72379-1777381200-1777392000@livemusiceveryday.com
SUMMARY:Victoria Leigh @Kiki's Sandbar
DESCRIPTION:LiveMusicEveryDay.com celebrates the live music in the Florida Keys and Key West \nOne gig at a time on LiveMusicEveryDay.com \n“Where Musicians Share their live music schedule” \nReady to Rock the World? \nAsk about our Artist/Band Fan Page Getting Tips Just Got EASIER!\nText Me: 305-783-9172 or Email Me: LMEDKeyWest@SocialMediaG.com
URL:https://livemusiceveryday.com/event/victoria-leigh-kikis-sandbar-4/2026-04-28/
LOCATION:Kiki’s Sandbar\, 183 Barry Ave\, Little Torch Key\, FL\, 33042\, United States
ATTACH;FMTTYPE=image/jpeg:https://livemusiceveryday.com/wp-content/uploads/2025/10/Victoria-Leigh-@Boondocks-livemusiceveryday.com_.jpg
END:VEVENT
BEGIN:VEVENT
DTSTART;TZID=America/New_York:20260428T203000
DTEND;TZID=America/New_York:20260428T233000
DTSTAMP:20260423T080718
CREATED:20260418T152826Z
LAST-MODIFIED:20260418T152826Z
UID:72366-1777408200-1777419000@livemusiceveryday.com
SUMMARY:Marshall Morlock Solo @Bull & Whistle Bar
DESCRIPTION:…READ MORE \nLiveMusicEveryDay.com celebrates the live music in the Florida Keys and Key West \nOne gig at a time on LiveMusicEveryDay.com \n“Where Musicians Share their live music schedule” \nReady to Rock the World? \nAsk about our Artist/Band Fan Page Getting Tips Just Got EASIER!\nText Me: 305-783-9172 or Email Me: LMEDKeyWest@SocialMediaG.com
URL:https://livemusiceveryday.com/event/marshall-morlock-solo-bull-whistle-bar-3/2026-04-28/
LOCATION:Bull & Whistle Bar\, 224 Duval Street\, Key Wes\, 33040\, United States
ATTACH;FMTTYPE=image/jpeg:https://livemusiceveryday.com/wp-content/uploads/2025/10/Marshall-Morlock-Solo-@Bull-Whistle-Bar-livemusiceveryday.com_.jpg
END:VEVENT
BEGIN:VEVENT
DTSTART;TZID=America/New_York:20260429T173000
DTEND;TZID=America/New_York:20260429T211500
DTSTAMP:20260423T080718
CREATED:20260418T161407Z
LAST-MODIFIED:20260418T161407Z
UID:72384-1777483800-1777497300@livemusiceveryday.com
SUMMARY:Victoria Leigh @Sloppy Joe's
DESCRIPTION:LiveMusicEveryDay.com celebrates the live music in the Florida Keys and Key West \nOne gig at a time on LiveMusicEveryDay.com \n“Where Musicians Share their live music schedule” \nReady to Rock the World? \nAsk about our Artist/Band Fan Page Getting Tips Just Got EASIER!\nText Me: 305-783-9172 or Email Me: LMEDKeyWest@SocialMediaG.com
URL:https://livemusiceveryday.com/event/victoria-leigh-sloppy-joes-5/2026-04-29/
LOCATION:Sloppy Joe’s Bar\, 201 Duval Street\, Key West\, FL\, 33040\, United States
GEO:24.5591016;-81.8049625
X-APPLE-STRUCTURED-LOCATION;VALUE=URI;X-ADDRESS=Sloppy Joe’s Bar 201 Duval Street Key West FL 33040 United States;X-APPLE-RADIUS=500;X-TITLE=201 Duval Street:geo:-81.8049625,24.5591016
END:VEVENT
BEGIN:VEVENT
DTSTART;TZID=America/New_York:20260429T180000
DTEND;TZID=America/New_York:20260429T210000
DTSTAMP:20260423T080718
CREATED:20260418T162849Z
LAST-MODIFIED:20260418T163105Z
UID:72397-1777485600-1777496400@livemusiceveryday.com
SUMMARY:Micah @FL Keys Brewing Co. (MM81)
DESCRIPTION:Micah is a seasoned storyteller and musician known as the Barstool Sailor\, embodying the spirit of island life. For over two decades\, he’s been entertaining audiences as a true “Sunshine Billionaire” of the tropics. \n…READ MORE \nLiveMusicEveryDay.com celebrates the live music in the Florida Keys and Key West \nOne gig at a time on LiveMusicEveryDay.com \n“Where Musicians Share their live music schedule” \nReady to Rock the World? \nAsk about our Artist/Band Fan Page Getting Tips Just Got EASIER!\nText Me: 305-783-9172 or Email Me: LMEDKeyWest@SocialMediaG.com
URL:https://livemusiceveryday.com/event/micah-florida-keys-brewing-4/2026-04-29/
LOCATION:Florida Keys Brewing Company MM81.6\, 81611 Old Hwy\, Islamorada\, FL\, 33036\, United States
ATTACH;FMTTYPE=image/jpeg:https://livemusiceveryday.com/wp-content/uploads/2025/10/Micah-@Rams-Head-Southernmostt-livemusiceveryday.com_.jpg
END:VEVENT
BEGIN:VEVENT
DTSTART;TZID=America/New_York:20260429T200000
DTEND;TZID=America/New_York:20260429T230000
DTSTAMP:20260423T080718
CREATED:20260418T150841Z
LAST-MODIFIED:20260418T150841Z
UID:72356-1777492800-1777503600@livemusiceveryday.com
SUMMARY:Marshall Morlock Band @General Horseplay
DESCRIPTION:The Marshall Morlock Band is a high-energy rock trio from Key West\, led by guitarist and vocalist Marshall Morlock. Featuring Scott “Papa Keys” Morlock on bass/keys and Jon Allen on drums\, the band is a staple of the local music scene. In 2024\, Marshall was named Entertainer of the Year\, and the band won Rock Act of the Year at the Key West Music Awards. \n…READ MORE \nLiveMusicEveryDay.com celebrates the live music in the Florida Keys and Key West \nOne gig at a time on LiveMusicEveryDay.com \n“Where Musicians Share their live music schedule” \nReady to Rock the World? \nAsk about our Artist/Band Fan Page Getting Tips Just Got EASIER!\nText Me: 305-783-9172 orEmail Me: LMEDKeyWest@SocialMediaG.com
URL:https://livemusiceveryday.com/event/marshall-morlock-band-general-horseplay-2/2026-04-29/
LOCATION:General Horseplay\, 423 Caroline St\, Key West\, FL\, 33040\, United States
ATTACH;FMTTYPE=image/jpeg:https://livemusiceveryday.com/wp-content/uploads/2025/09/Marshall-Morlock-Band-@The-Alamo-livemusiceveryday.com_.jpg
END:VEVENT
BEGIN:VEVENT
DTSTART;TZID=America/New_York:20260430T100000
DTEND;TZID=America/New_York:20260430T114500
DTSTAMP:20260423T080718
CREATED:20260418T161407Z
LAST-MODIFIED:20260418T161407Z
UID:72385-1777543200-1777549500@livemusiceveryday.com
SUMMARY:Victoria Leigh @Sloppy Joe's
DESCRIPTION:LiveMusicEveryDay.com celebrates the live music in the Florida Keys and Key West \nOne gig at a time on LiveMusicEveryDay.com \n“Where Musicians Share their live music schedule” \nReady to Rock the World? \nAsk about our Artist/Band Fan Page Getting Tips Just Got EASIER!\nText Me: 305-783-9172 or Email Me: LMEDKeyWest@SocialMediaG.com
URL:https://livemusiceveryday.com/event/victoria-leigh-sloppy-joes-5/2026-04-30/
LOCATION:Sloppy Joe’s Bar\, 201 Duval Street\, Key West\, FL\, 33040\, United States
GEO:24.5591016;-81.8049625
X-APPLE-STRUCTURED-LOCATION;VALUE=URI;X-ADDRESS=Sloppy Joe’s Bar 201 Duval Street Key West FL 33040 United States;X-APPLE-RADIUS=500;X-TITLE=201 Duval Street:geo:-81.8049625,24.5591016
END:VEVENT
BEGIN:VEVENT
DTSTART;TZID=America/New_York:20260430T170000
DTEND;TZID=America/New_York:20260430T170000
DTSTAMP:20260423T080718
CREATED:20260418T153408Z
LAST-MODIFIED:20260418T153408Z
UID:72369-1777568400-1777568400@livemusiceveryday.com
SUMMARY:Marshall Morlock Band @Salty Frogs
DESCRIPTION:LiveMusicEveryDay.com celebrates the live music in the Florida Keys and Key West \nOne gig at a time on LiveMusicEveryDay.com \n“Where Musicians Share their live music schedule” \nReady to Rock the World? \nAsk about our Artist/Band Fan Page Getting Tips Just Got EASIER!\nText Me: 305-783-9172 or Email Me: LMEDKeyWest@SocialMediaG.com
URL:https://livemusiceveryday.com/event/marshall-morlock-band-salty-frogs-3/2026-04-30/
LOCATION:Salty Frog’s Bar & Grill\, 407 Front Street\, Key West\, 33040\, United States
ATTACH;FMTTYPE=image/jpeg:https://livemusiceveryday.com/wp-content/uploads/2025/09/Marshall-Morlock-Band-@The-Alamo-livemusiceveryday.com_.jpg
END:VEVENT
END:VCALENDAR